View In:
ArcGIS JavaScript
ArcGIS Online Map Viewer
ArcGIS Earth
Service Description: Idaho Falls 2025 aerial for the City of Idaho Falls. This provides an aerial background to use for web maps in or near the City of Idaho Falls, ID. Aerial flight dated April 14, 2025.
Name: AER_IFAerial_2025
Description: Idaho Falls aerial flight image service 2025.
Single Fused Map Cache: false
Extent:
XMin: 644028.1501098275
YMin: 635520.6000020697
XMax: 731174.8501098275
YMax: 698538.9000020698
Spatial Reference: 0
(0)
LatestVCSWkid(0)
Initial Extent:
XMin: 644028.1501098275
YMin: 635520.6000020697
XMax: 731174.8501098275
YMax: 698538.9000020698
Spatial Reference: 0
(0)
LatestVCSWkid(0)
Full Extent:
XMin: 644028.1501098275
YMin: 635520.6000020697
XMax: 731174.8501098275
YMax: 698538.9000020698
Spatial Reference: 0
(0)
LatestVCSWkid(0)
Pixel Size X: 0.1499999999999999
Pixel Size Y: 0.1500000000000001
Band Count: 3
Pixel Type: U8
RasterFunction Infos: {"rasterFunctionInfos": [{
"name": "None",
"description": "A No-Op Function.",
"help": ""
}]}
Mensuration Capabilities: None
Has Histograms: true
Has Colormap: false
Has Multi Dimensions : false
Rendering Rule:
Min Scale: 0
Max Scale: 0
Copyright Text: City of Idaho Falls
Service Data Type: esriImageServiceDataTypeRGB
Min Values: 0, 0, 0
Max Values: 254, 254, 254
Mean Values: 125.43897061553392, 121.11629210009183, 106.8782364570909
Standard Deviation Values: 43.47624721389413, 40.48614408580233, 41.384436682232774
Object ID Field: OBJECTID
Fields:
-
OBJECTID
(
type: esriFieldTypeOID, alias: Object ID
)
-
Name
(
type: esriFieldTypeString, alias: Name, length: 200
)
-
MinPS
(
type: esriFieldTypeDouble, alias: Min PS
)
-
MaxPS
(
type: esriFieldTypeDouble, alias: Max PS
)
-
LowPS
(
type: esriFieldTypeDouble, alias: Low PS
)
-
HighPS
(
type: esriFieldTypeDouble, alias: High PS
)
-
Category
(
type: esriFieldTypeInteger, alias: Category
, Coded Values:
[0: Unknown]
, [1: Primary]
, [2: Overview]
, ...6 more...
)
-
Tag
(
type: esriFieldTypeString, alias: Tag, length: 100
)
-
GroupName
(
type: esriFieldTypeString, alias: Group Name, length: 100
)
-
ProductName
(
type: esriFieldTypeString, alias: Product Name, length: 100
)
-
CenterX
(
type: esriFieldTypeDouble, alias: Center X
)
-
CenterY
(
type: esriFieldTypeDouble, alias: Center Y
)
-
ZOrder
(
type: esriFieldTypeInteger, alias: Z Order
)
-
PhotoDate
(
type: esriFieldTypeDate, alias: Photo Date, length: 8
)
-
Comments
(
type: esriFieldTypeString, alias: Comments, length: 250
)
-
CreateUser
(
type: esriFieldTypeString, alias: Create User, length: 50
)
-
CreateDate
(
type: esriFieldTypeDate, alias: Create Date, length: 8
)
-
EditUser
(
type: esriFieldTypeString, alias: Edit User, length: 50
)
-
EditDate
(
type: esriFieldTypeDate, alias: Edit Date, length: 8
)
-
Shape
(
type: esriFieldTypeGeometry, alias: Shape
)
-
Shape.STArea()
(
type: esriFieldTypeDouble, alias: Area (sq. ft.)
)
-
Shape.STLength()
(
type: esriFieldTypeDouble, alias: Perimeter Length (ft.)
)
Default Mosaic Method: Center
Allowed Mosaic Methods: Center,NorthWest,LockRaster,ByAttribute,Nadir,Viewpoint,Seamline,None
SortField:
SortValue: null
Mosaic Operator: First
Default Compression Quality: 75
Default Resampling Method: Bilinear
Max Record Count: 1000
Max Image Height: 4100
Max Image Width: 15000
Max Download Image Count: 20
Max Mosaic Image Count: 42
Allow Raster Function: true
Allow Copy: true
Allow Analysis: true
Allow Compute TiePoints: false
Supports Statistics: true
Supports Advanced Queries: true
Use StandardizedQueries: true
Raster Type Infos:
Name: Raster Dataset
Description: Supports all ArcGIS Raster Datasets
Help:
Has Raster Attribute Table: false
Edit Fields Info: null
Ownership Based AccessControl For Rasters: null
Child Resources:
Info
Histograms
Statistics
Key Properties
Legend
Raster Function Infos
Supported Operations:
Export Image
Query
Identify
Compute Histograms
Compute Statistics Histograms
Get Samples
Compute Class Statistics
Query Boundary
Compute Pixel Location
Compute Angles
Validate
Project