{
 "currentVersion": 11.1,
 "serviceDescription": "Idaho Falls 2025 aerial for the City of Idaho Falls. This provides an aerial background to use for web maps in or near the City of Idaho Falls, ID. Aerial flight dated April 14, 2025.",
 "name": "AER_IFAerial_2025",
 "description": "Idaho Falls aerial flight image service 2025.",
 "extent": {
  "xmin": 644028.1501098275,
  "ymin": 635520.6000020697,
  "xmax": 731174.8501098275,
  "ymax": 698538.9000020698,
  "spatialReference": {
   "wkt": "PROJCS[\"IF Ground\",GEOGCS[\"GCS_North_American_1983\",DATUM[\"D_North_American_1983\",SPHEROID[\"GRS_1980\",6378137.0,298.257222101]],PRIMEM[\"Greenwich\",0.0],UNIT[\"Degree\",0.0174532925199433]],PROJECTION[\"Transverse_Mercator\"],PARAMETER[\"False_Easting\",656348.5987174333],PARAMETER[\"False_Northing\",0.0],PARAMETER[\"Central_Meridian\",-112.1666666666667],PARAMETER[\"Scale_Factor\",1.000224618828],PARAMETER[\"Latitude_Of_Origin\",41.66666666666666],UNIT[\"Foot_US\",0.3048006096012192]]"
  }
 },
 "initialExtent": {
  "xmin": 644028.1501098275,
  "ymin": 635520.6000020697,
  "xmax": 731174.8501098275,
  "ymax": 698538.9000020698,
  "spatialReference": {
   "wkt": "PROJCS[\"IF Ground\",GEOGCS[\"GCS_North_American_1983\",DATUM[\"D_North_American_1983\",SPHEROID[\"GRS_1980\",6378137.0,298.257222101]],PRIMEM[\"Greenwich\",0.0],UNIT[\"Degree\",0.0174532925199433]],PROJECTION[\"Transverse_Mercator\"],PARAMETER[\"False_Easting\",656348.5987174333],PARAMETER[\"False_Northing\",0.0],PARAMETER[\"Central_Meridian\",-112.1666666666667],PARAMETER[\"Scale_Factor\",1.000224618828],PARAMETER[\"Latitude_Of_Origin\",41.66666666666666],UNIT[\"Foot_US\",0.3048006096012192]]"
  }
 },
 "fullExtent": {
  "xmin": 644028.1501098275,
  "ymin": 635520.6000020697,
  "xmax": 731174.8501098275,
  "ymax": 698538.9000020698,
  "spatialReference": {
   "wkt": "PROJCS[\"IF Ground\",GEOGCS[\"GCS_North_American_1983\",DATUM[\"D_North_American_1983\",SPHEROID[\"GRS_1980\",6378137.0,298.257222101]],PRIMEM[\"Greenwich\",0.0],UNIT[\"Degree\",0.0174532925199433]],PROJECTION[\"Transverse_Mercator\"],PARAMETER[\"False_Easting\",656348.5987174333],PARAMETER[\"False_Northing\",0.0],PARAMETER[\"Central_Meridian\",-112.1666666666667],PARAMETER[\"Scale_Factor\",1.000224618828],PARAMETER[\"Latitude_Of_Origin\",41.66666666666666],UNIT[\"Foot_US\",0.3048006096012192]]"
  }
 },
 "sortableFields": "MinPS,MaxPS,LowPS,HighPS,CenterX,CenterY,ZOrder,Shape.STArea(),Shape.STLength(),PhotoDate,CreateDate,EditDate",
 "bandCount": 3,
 "pixelType": "U8",
 "minValues": [
  0,
  0,
  0
 ],
 "maxValues": [
  254,
  254,
  254
 ],
 "meanValues": [
  125.43897061553392,
  121.11629210009183,
  106.8782364570909
 ],
 "stdvValues": [
  43.47624721389413,
  40.48614408580233,
  41.384436682232774
 ],
 "hasMultidimensions": false,
 "pixelSizeX": 0.1499999999999999,
 "pixelSizeY": 0.1500000000000001,
 "datasetFormat": "AMD",
 "uncompressedSize": 732244917948,
 "blockWidth": 2048,
 "blockHeight": 256,
 "compressionType": "None",
 "bandNames": [
  "Band_1",
  "Band_2",
  "Band_3"
 ],
 "allowCopy": true,
 "allowAnalysis": true,
 "itemAccess": false,
 "minPixelSize": 0,
 "maxPixelSize": 0,
 "copyrightText": "City of Idaho Falls",
 "serviceDataType": "esriImageServiceDataTypeRGB",
 "serviceSourceType": "esriImageServiceSourceTypeMosaicDataset",
 "objectIdField": "OBJECTID",
 "fields": [
  {
   "name": "OBJECTID",
   "type": "esriFieldTypeOID",
   "alias": "Object ID",
   "domain": null
  },
  {
   "name": "Name",
   "type": "esriFieldTypeString",
   "alias": "Name",
   "domain": null,
   "length": 200
  },
  {
   "name": "MinPS",
   "type": "esriFieldTypeDouble",
   "alias": "Min PS",
   "domain": null
  },
  {
   "name": "MaxPS",
   "type": "esriFieldTypeDouble",
   "alias": "Max PS",
   "domain": null
  },
  {
   "name": "LowPS",
   "type": "esriFieldTypeDouble",
   "alias": "Low PS",
   "domain": null
  },
  {
   "name": "HighPS",
   "type": "esriFieldTypeDouble",
   "alias": "High PS",
   "domain": null
  },
  {
   "name": "Category",
   "type": "esriFieldTypeInteger",
   "alias": "Category",
   "domain": {
    "type": "codedValue",
    "name": "MosaicCatalogItemCategoryDomain",
    "description": "Catalog item categories.",
    "codedValues": [
     {
      "name": "Unknown",
      "code": 0
     },
     {
      "name": "Primary",
      "code": 1
     },
     {
      "name": "Overview",
      "code": 2
     },
     {
      "name": "Unprocessed Overview",
      "code": 3
     },
     {
      "name": "Partial Overview",
      "code": 4
     },
     {
      "name": "Inactive",
      "code": 5
     },
     {
      "name": "Uploaded",
      "code": 253
     },
     {
      "name": "Incomplete",
      "code": 254
     },
     {
      "name": "Custom",
      "code": 255
     }
    ],
    "mergePolicy": "esriMPTDefaultValue",
    "splitPolicy": "esriSPTDefaultValue"
   }
  },
  {
   "name": "Tag",
   "type": "esriFieldTypeString",
   "alias": "Tag",
   "domain": null,
   "length": 100
  },
  {
   "name": "GroupName",
   "type": "esriFieldTypeString",
   "alias": "Group Name",
   "domain": null,
   "length": 100
  },
  {
   "name": "ProductName",
   "type": "esriFieldTypeString",
   "alias": "Product Name",
   "domain": null,
   "length": 100
  },
  {
   "name": "CenterX",
   "type": "esriFieldTypeDouble",
   "alias": "Center X",
   "domain": null
  },
  {
   "name": "CenterY",
   "type": "esriFieldTypeDouble",
   "alias": "Center Y",
   "domain": null
  },
  {
   "name": "ZOrder",
   "type": "esriFieldTypeInteger",
   "alias": "Z Order",
   "domain": null
  },
  {
   "name": "PhotoDate",
   "type": "esriFieldTypeDate",
   "alias": "Photo Date",
   "domain": null,
   "length": 8
  },
  {
   "name": "Comments",
   "type": "esriFieldTypeString",
   "alias": "Comments",
   "domain": null,
   "length": 250
  },
  {
   "name": "CreateUser",
   "type": "esriFieldTypeString",
   "alias": "Create User",
   "domain": null,
   "length": 50
  },
  {
   "name": "CreateDate",
   "type": "esriFieldTypeDate",
   "alias": "Create Date",
   "domain": null,
   "length": 8
  },
  {
   "name": "EditUser",
   "type": "esriFieldTypeString",
   "alias": "Edit User",
   "domain": null,
   "length": 50
  },
  {
   "name": "EditDate",
   "type": "esriFieldTypeDate",
   "alias": "Edit Date",
   "domain": null,
   "length": 8
  },
  {
   "name": "Shape",
   "type": "esriFieldTypeGeometry",
   "alias": "Shape",
   "domain": null
  },
  {
   "name": "Shape.STArea()",
   "type": "esriFieldTypeDouble",
   "alias": "Area (sq. ft.)",
   "domain": null
  },
  {
   "name": "Shape.STLength()",
   "type": "esriFieldTypeDouble",
   "alias": "Perimeter Length (ft.)",
   "domain": null
  }
 ],
 "capabilities": "Catalog,Image,Metadata",
 "defaultMosaicMethod": "Center",
 "allowedMosaicMethods": "Center,NorthWest,LockRaster,ByAttribute,Nadir,Viewpoint,Seamline,None",
 "sortField": "",
 "sortValue": null,
 "sortAscending": true,
 "mosaicOperator": "First",
 "maxDownloadSizeLimit": 2048,
 "defaultCompressionQuality": 75,
 "defaultResamplingMethod": "Bilinear",
 "maxImageHeight": 4100,
 "maxImageWidth": 15000,
 "maxRecordCount": 1000,
 "maxDownloadImageCount": 20,
 "maxMosaicImageCount": 42,
 "allowRasterFunction": true,
 "rasterFunctionInfos": [
  {
   "name": "None",
   "description": "A No-Op Function.",
   "help": ""
  }
 ],
 "rasterTypeInfos": [
  {
   "name": "Raster Dataset",
   "description": "Supports all ArcGIS Raster Datasets",
   "help": ""
  }
 ],
 "mensurationCapabilities": "None",
 "hasHistograms": true,
 "hasColormap": false,
 "hasRasterAttributeTable": false,
 "minScale": 0,
 "maxScale": 0,
 "exportTilesAllowed": false,
 "supportsStatistics": true,
 "supportsAdvancedQueries": true,
 "editFieldsInfo": null,
 "ownershipBasedAccessControlForRasters": null,
 "allowComputeTiePoints": false,
 "useStandardizedQueries": true,
 "advancedQueryCapabilities": {
  "useStandardizedQueries": true,
  "supportsStatistics": true,
  "supportsOrderBy": true,
  "supportsDistinct": true,
  "supportsPagination": true
 },
 "spatialReference": {
  "wkt": "PROJCS[\"IF Ground\",GEOGCS[\"GCS_North_American_1983\",DATUM[\"D_North_American_1983\",SPHEROID[\"GRS_1980\",6378137.0,298.257222101]],PRIMEM[\"Greenwich\",0.0],UNIT[\"Degree\",0.0174532925199433]],PROJECTION[\"Transverse_Mercator\"],PARAMETER[\"False_Easting\",656348.5987174333],PARAMETER[\"False_Northing\",0.0],PARAMETER[\"Central_Meridian\",-112.1666666666667],PARAMETER[\"Scale_Factor\",1.000224618828],PARAMETER[\"Latitude_Of_Origin\",41.66666666666666],UNIT[\"Foot_US\",0.3048006096012192]]"
 }
}
